Workbook

Sheet Результаты
C1: Результат
A2: Группа А
A3: Франция — Румыния
A4: Албания — Швейцария
A5: Румыния — Швейцария
A6: Франция — Албания
A7: Швейцария — Франция
A8: Румыния — Албания
A10: Группа B
A11: Уэльс — Словакия
A12: Англия — Россия
A13: Россия — Словакия
A14: Англия — Уэльс
... A48: Исландия — Австрия

Sheet Прогноз
B1: Прогноз | E1: Баллы
A2: Группа А
A3: Франция — Румыния | B3: 3 | C3: 0 | E3: =IF(AND(CELL("тип",Результаты!C3)="v",CELL("тип",Результаты!D3)="v"),IF(AND(B3=Результаты!C3,C3=Результаты!D3),3,IF(B3-C3=Результаты!C3-Результаты!D3,2,IF(OR(AND(B3>C3,Результаты!C3>Результаты!D3),AND(B3<C3,Результаты!C3<Результаты!D3)),1,0))),0) -> 0
A4: Албания — Швейцария | B4: 1 | C4: 1 | E4: =IF(AND(CELL("тип",Результаты!C4)="v",CELL("тип",Результаты!D4)="v"),IF(AND(B4=Результаты!C4,C4=Результаты!D4),3,IF(B4-C4=Результаты!C4-Результаты!D4,2,IF(OR(AND(B4>C4,Результаты!C4>Результаты!D4),AND(B4<C4,Результаты!C4<Результаты!D4)),1,0))),0) -> 0
A5: Румыния — Швейцария | B5: 1 | C5: 2 | E5: =IF(AND(CELL("тип",Результаты!C5)="v",CELL("тип",Результаты!D5)="v"),IF(AND(B5=Результаты!C5,C5=Результаты!D5),3,IF(B5-C5=Результаты!C5-Результаты!D5,2,IF(OR(AND(B5>C5,Результаты!C5>Результаты!D5),AND(B5<C5,Результаты!C5<Результаты!D5)),1,0))),0) -> 0
A6: Франция — Албания | B6: 2 | C6: 0 | E6: =IF(AND(CELL("тип",Результаты!C6)="v",CELL("тип",Результаты!D6)="v"),IF(AND(B6=Результаты!C6,C6=Результаты!D6),3,IF(B6-C6=Результаты!C6-Результаты!D6,2,IF(OR(AND(B6>C6,Результаты!C6>Результаты!D6),AND(B6<C6,Результаты!C6<Результаты!D6)),1,0))),0) -> 0
A7: Швейцария — Франция | B7: 1 | C7: 3 | E7: =IF(AND(CELL("тип",Результаты!C7)="v",CELL("тип",Результаты!D7)="v"),IF(AND(B7=Результаты!C7,C7=Результаты!D7),3,IF(B7-C7=Результаты!C7-Результаты!D7,2,IF(OR(AND(B7>C7,Результаты!C7>Результаты!D7),AND(B7<C7,Результаты!C7<Результаты!D7)),1,0))),0) -> 0
A8: Румыния — Албания | B8: 1 | C8: 0 | E8: =IF(AND(CELL("тип",Результаты!C8)="v",CELL("тип",Результаты!D8)="v"),IF(AND(B8=Результаты!C8,C8=Результаты!D8),3,IF(B8-C8=Результаты!C8-Результаты!D8,2,IF(OR(AND(B8>C8,Результаты!C8>Результаты!D8),AND(B8<C8,Результаты!C8<Результаты!D8)),1,0))),0) -> 0
A10: Группа B
A11: Уэльс — Словакия | B11: 1 | C11: 1 | E11: =IF(AND(CELL("тип",Результаты!C11)="v",CELL("тип",Результаты!D11)="v"),IF(AND(B11=Результаты!C11,C11=Результаты!D11),3,IF(B11-C11=Результаты!C11-Результаты!D11,2,IF(OR(AND(B11>C11,Результаты!C11>Результаты!D11),AND(B11<C11,Результаты!C11<Результаты!D11)),1,0))),0) -> 0
A12: Англия — Россия | B12: 2 | C12: 1 | E12: =IF(AND(CELL("тип",Результаты!C12)="v",CELL("тип",Результаты!D12)="v"),IF(AND(B12=Результаты!C12,C12=Результаты!D12),3,IF(B12-C12=Результаты!C12-Результаты!D12,2,IF(OR(AND(B12>C12,Результаты!C12>Результаты!D12),AND(B12<C12,Результаты!C12<Результаты!D12)),1,0))),0) -> 0
A13: Россия — Словакия | B13: 2 | C13: 1 | E13: =IF(AND(CELL("тип",Результаты!C13)="v",CELL("тип",Результаты!D13)="v"),IF(AND(B13=Результаты!C13,C13=Результаты!D13),3,IF(B13-C13=Результаты!C13-Результаты!D13,2,IF(OR(AND(B13>C13,Результаты!C13>Результаты!D13),AND(B13<C13,Результаты!C13<Результаты!D13)),1,0))),0) -> 0
A14: Англия — Уэльс | B14: 3 | C14: 1 | E14: =IF(AND(CELL("тип",Результаты!C14)="v",CELL("тип",Результаты!D14)="v"),IF(AND(B14=Результаты!C14,C14=Результаты!D14),3,IF(B14-C14=Результаты!C14-Результаты!D14,2,IF(OR(AND(B14>C14,Результаты!C14>Результаты!D14),AND(B14<C14,Результаты!C14<Результаты!D14)),1,0))),0) -> 0
A15: Словакия — Англия | B15: 2 | C15: 2 | E15: =IF(AND(CELL("тип",Результаты!C15)="v",CELL("тип",Результаты!D15)="v"),IF(AND(B15=Результаты!C15,C15=Результаты!D15),3,IF(B15-C15=Результаты!C15-Результаты!D15,2,IF(OR(AND(B15>C15,Результаты!C15>Результаты!D15),AND(B15<C15,Результаты!C15<Результаты!D15)),1,0))),0) -> 0
A16: Россия — Уэльс | B16: 1 | C16: 0 | E16: =IF(AND(CELL("тип",Результаты!C16)="v",CELL("тип",Результаты!D16)="v"),IF(AND(B16=Результаты!C16,C16=Результаты!D16),3,IF(B16-C16=Результаты!C16-Результаты!D16,2,IF(OR(AND(B16>C16,Результаты!C16>Результаты!D16),AND(B16<C16,Результаты!C16<Результаты!D16)),1,0))),0) -> 0
A18: Группа C
A19: Польша — Сев. Ирландия | B19: 2 | C19: 0 | E19: =IF(AND(CELL("тип",Результаты!C19)="v",CELL("тип",Результаты!D19)="v"),IF(AND(B19=Результаты!C19,C19=Результаты!D19),3,IF(B19-C19=Результаты!C19-Результаты!D19,2,IF(OR(AND(B19>C19,Результаты!C19>Результаты!D19),AND(B19<C19,Результаты!C19<Результаты!D19)),1,0))),0) -> 0
A20: Германия — Украина | B20: 3 | C20: 1 | E20: =IF(AND(CELL("тип",Результаты!C20)="v",CELL("тип",Результаты!D20)="v"),IF(AND(B20=Результаты!C20,C20=Результаты!D20),3,IF(B20-C20=Результаты!C20-Результаты!D20,2,IF(OR(AND(B20>C20,Результаты!C20>Результаты!D20),AND(B20<C20,Результаты!C20<Результаты!D20)),1,0))),0) -> 0
A21: Украина — Сев. Ирландия | B21: 2 | C21: 1 | E21: =IF(AND(CELL("тип",Результаты!C21)="v",CELL("тип",Результаты!D21)="v"),IF(AND(B21=Результаты!C21,C21=Результаты!D21),3,IF(B21-C21=Результаты!C21-Результаты!D21,2,IF(OR(AND(B21>C21,Результаты!C21>Результаты!D21),AND(B21<C21,Результаты!C21<Результаты!D21)),1,0))),0) -> 0
A22: Германия — Польша | B22: 2 | C22: 0 | E22: =IF(AND(CELL("тип",Результаты!C22)="v",CELL("тип",Результаты!D22)="v"),IF(AND(B22=Результаты!C22,C22=Результаты!D22),3,IF(B22-C22=Результаты!C22-Результаты!D22,2,IF(OR(AND(B22>C22,Результаты!C22>Результаты!D22),AND(B22<C22,Результаты!C22<Результаты!D22)),1,0))),0) -> 0
A23: Украина — Польша | B23: 1 | C23: 1 | E23: =IF(AND(CELL("тип",Результаты!C23)="v",CELL("тип",Результаты!D23)="v"),IF(AND(B23=Результаты!C23,C23=Результаты!D23),3,IF(B23-C23=Результаты!C23-Результаты!D23,2,IF(OR(AND(B23>C23,Результаты!C23>Результаты!D23),AND(B23<C23,Результаты!C23<Результаты!D23)),1,0))),0) -> 0
A24: Сев. Ирландия — Германия | B24: 0 | C24: 3 | E24: =IF(AND(CELL("тип",Результаты!C24)="v",CELL("тип",Результаты!D24)="v"),IF(AND(B24=Результаты!C24,C24=Результаты!D24),3,IF(B24-C24=Результаты!C24-Результаты!D24,2,IF(OR(AND(B24>C24,Результаты!C24>Результаты!D24),AND(B24<C24,Результаты!C24<Результаты!D24)),1,0))),0) -> 0
A26: Группа D
A27: Турция — Хорватия | B27: 0 | C27: 2 | E27: =IF(AND(CELL("тип",Результаты!C27)="v",CELL("тип",Результаты!D27)="v"),IF(AND(B27=Результаты!C27,C27=Результаты!D27),3,IF(B27-C27=Результаты!C27-Результаты!D27,2,IF(OR(AND(B27>C27,Результаты!C27>Результаты!D27),AND(B27<C27,Результаты!C27<Результаты!D27)),1,0))),0) -> 0
A28: Испания — Чехия | B28: 1 | C28: 1 | E28: =IF(AND(CELL("тип",Результаты!C28)="v",CELL("тип",Результаты!D28)="v"),IF(AND(B28=Результаты!C28,C28=Результаты!D28),3,IF(B28-C28=Результаты!C28-Результаты!D28,2,IF(OR(AND(B28>C28,Результаты!C28>Результаты!D28),AND(B28<C28,Результаты!C28<Результаты!D28)),1,0))),0) -> 0
A29: Чехия — Хорватия | B29: 1 | C29: 1 | E29: =IF(AND(CELL("тип",Результаты!C29)="v",CELL("тип",Результаты!D29)="v"),IF(AND(B29=Результаты!C29,C29=Результаты!D29),3,IF(B29-C29=Результаты!C29-Результаты!D29,2,IF(OR(AND(B29>C29,Результаты!C29>Результаты!D29),AND(B29<C29,Результаты!C29<Результаты!D29)),1,0))),0) -> 0
A30: Испания — Турция | B30: 2 | C30: 1 | E30: =IF(AND(CELL("тип",Результаты!C30)="v",CELL("тип",Результаты!D30)="v"),IF(AND(B30=Результаты!C30,C30=Результаты!D30),3,IF(B30-C30=Результаты!C30-Результаты!D30,2,IF(OR(AND(B30>C30,Результаты!C30>Результаты!D30),AND(B30<C30,Результаты!C30<Результаты!D30)),1,0))),0) -> 0
A31: Хорватия — Испания | B31: 2 | C31: 2 | E31: =IF(AND(CELL("тип",Результаты!C31)="v",CELL("тип",Результаты!D31)="v"),IF(AND(B31=Результаты!C31,C31=Результаты!D31),3,IF(B31-C31=Результаты!C31-Результаты!D31,2,IF(OR(AND(B31>C31,Результаты!C31>Результаты!D31),AND(B31<C31,Результаты!C31<Результаты!D31)),1,0))),0) -> 0
A32: Чехия — Турция | B32: 1 | C32: 1 | E32: =IF(AND(CELL("тип",Результаты!C32)="v",CELL("тип",Результаты!D32)="v"),IF(AND(B32=Результаты!C32,C32=Результаты!D32),3,IF(B32-C32=Результаты!C32-Результаты!D32,2,IF(OR(AND(B32>C32,Результаты!C32>Результаты!D32),AND(B32<C32,Результаты!C32<Результаты!D32)),1,0))),0) -> 0
A34: Группа E
A35: Ирландия — Швеция | B35: 1 | C35: 1 | E35: =IF(AND(CELL("тип",Результаты!C35)="v",CELL("тип",Результаты!D35)="v"),IF(AND(B35=Результаты!C35,C35=Результаты!D35),3,IF(B35-C35=Результаты!C35-Результаты!D35,2,IF(OR(AND(B35>C35,Результаты!C35>Результаты!D35),AND(B35<C35,Результаты!C35<Результаты!D35)),1,0))),0) -> 0
A36: Бельгия — Италия | B36: 0 | C36: 1 | E36: =IF(AND(CELL("тип",Результаты!C36)="v",CELL("тип",Результаты!D36)="v"),IF(AND(B36=Результаты!C36,C36=Результаты!D36),3,IF(B36-C36=Результаты!C36-Результаты!D36,2,IF(OR(AND(B36>C36,Результаты!C36>Результаты!D36),AND(B36<C36,Результаты!C36<Результаты!D36)),1,0))),0) -> 0
A37: Италия — Швеция | B37: 2 | C37: 0 | E37: =IF(AND(CELL("тип",Результаты!C37)="v",CELL("тип",Результаты!D37)="v"),IF(AND(B37=Результаты!C37,C37=Результаты!D37),3,IF(B37-C37=Результаты!C37-Результаты!D37,2,IF(OR(AND(B37>C37,Результаты!C37>Результаты!D37),AND(B37<C37,Результаты!C37<Результаты!D37)),1,0))),0) -> 0
A38: Бельгия — Ирландия | B38: 3 | C38: 1 | E38: =IF(AND(CELL("тип",Результаты!C38)="v",CELL("тип",Результаты!D38)="v"),IF(AND(B38=Результаты!C38,C38=Результаты!D38),3,IF(B38-C38=Результаты!C38-Результаты!D38,2,IF(OR(AND(B38>C38,Результаты!C38>Результаты!D38),AND(B38<C38,Результаты!C38<Результаты!D38)),1,0))),0) -> 0
A39: Италия — Ирландия | B39: 3 | C39: 1 | E39: =IF(AND(CELL("тип",Результаты!C39)="v",CELL("тип",Результаты!D39)="v"),IF(AND(B39=Результаты!C39,C39=Результаты!D39),3,IF(B39-C39=Результаты!C39-Результаты!D39,2,IF(OR(AND(B39>C39,Результаты!C39>Результаты!D39),AND(B39<C39,Результаты!C39<Результаты!D39)),1,0))),0) -> 0
A40: Швеция — Бельгия | B40: 1 | C40: 2 | E40: =IF(AND(CELL("тип",Результаты!C40)="v",CELL("тип",Результаты!D40)="v"),IF(AND(B40=Результаты!C40,C40=Результаты!D40),3,IF(B40-C40=Результаты!C40-Результаты!D40,2,IF(OR(AND(B40>C40,Результаты!C40>Результаты!D40),AND(B40<C40,Результаты!C40<Результаты!D40)),1,0))),0) -> 0
A42: Группа F
A43: Австрия — Венгрия | B43: 2 | C43: 0 | E43: =IF(AND(CELL("тип",Результаты!C43)="v",CELL("тип",Результаты!D43)="v"),IF(AND(B43=Результаты!C43,C43=Результаты!D43),3,IF(B43-C43=Результаты!C43-Результаты!D43,2,IF(OR(AND(B43>C43,Результаты!C43>Результаты!D43),AND(B43<C43,Результаты!C43<Результаты!D43)),1,0))),0) -> 0
A44: Португалия — Исландия | B44: 2 | C44: 0 | E44: =IF(AND(CELL("тип",Результаты!C44)="v",CELL("тип",Результаты!D44)="v"),IF(AND(B44=Результаты!C44,C44=Результаты!D44),3,IF(B44-C44=Результаты!C44-Результаты!D44,2,IF(OR(AND(B44>C44,Результаты!C44>Результаты!D44),AND(B44<C44,Результаты!C44<Результаты!D44)),1,0))),0) -> 0
A45: Исландия — Венгрия | B45: 1 | C45: 1 | E45: =IF(AND(CELL("тип",Результаты!C45)="v",CELL("тип",Результаты!D45)="v"),IF(AND(B45=Результаты!C45,C45=Результаты!D45),3,IF(B45-C45=Результаты!C45-Результаты!D45,2,IF(OR(AND(B45>C45,Результаты!C45>Результаты!D45),AND(B45<C45,Результаты!C45<Результаты!D45)),1,0))),0) -> 0
...

Sheet Общий зачет
B2: Прогноз | C2: =SUM(Прогноз!E$3:E$48) -> 0
